BEGIN:VCALENDAR
VERSION:2.0
PRODID:-//Denver&#039;s Early Childhood Council - ECPv6.15.20//NONSGML v1.0//EN
CALSCALE:GREGORIAN
METHOD:PUBLISH
X-WR-CALNAME:Denver&#039;s Early Childhood Council
X-ORIGINAL-URL:https://denverearlychildhood.org
X-WR-CALDESC:Events for Denver&#039;s Early Childhood Council
REFRESH-INTERVAL;VALUE=DURATION:PT1H
X-Robots-Tag:noindex
X-PUBLISHED-TTL:PT1H
BEGIN:VTIMEZONE
TZID:America/Denver
BEGIN:DAYLIGHT
TZOFFSETFROM:-0700
TZOFFSETTO:-0600
TZNAME:MDT
DTSTART:20250309T090000
END:DAYLIGHT
BEGIN:STANDARD
TZOFFSETFROM:-0600
TZOFFSETTO:-0700
TZNAME:MST
DTSTART:20251102T080000
END:STANDARD
BEGIN:DAYLIGHT
TZOFFSETFROM:-0700
TZOFFSETTO:-0600
TZNAME:MDT
DTSTART:20260308T090000
END:DAYLIGHT
BEGIN:STANDARD
TZOFFSETFROM:-0600
TZOFFSETTO:-0700
TZNAME:MST
DTSTART:20261101T080000
END:STANDARD
BEGIN:DAYLIGHT
TZOFFSETFROM:-0700
TZOFFSETTO:-0600
TZNAME:MDT
DTSTART:20270314T090000
END:DAYLIGHT
BEGIN:STANDARD
TZOFFSETFROM:-0600
TZOFFSETTO:-0700
TZNAME:MST
DTSTART:20271107T080000
END:STANDARD
END:VTIMEZONE
BEGIN:VEVENT
DTSTART;TZID=America/Denver:20260429T183000
DTEND;TZID=America/Denver:20260429T203000
DTSTAMP:20260425T103858
CREATED:20260207T004704Z
LAST-MODIFIED:20260403T174140Z
UID:6330-1777487400-1777494600@denverearlychildhood.org
SUMMARY:ENGLISH - Building a Heart-to-Heart Connection with Young Students in the Early Childhood Classroom
DESCRIPTION:Join us for an enriching workshop on “Building a Heart-to-Heart Connection with Young Students in the Early Childhood Education Classroom\,” where you’ll explore the vital role of emotional bonds in fostering a positive learning environment. This session will provide practical strategies for creating authentic connections with young learners\, emphasizing the importance of empathy\, active listening\, and personalized support. Participants will engage in interactive exercises designed to enhance their ability to understand and respond to students’ emotional needs\, build trust\, and nurture a supportive classroom atmosphere. Ideal for educators seeking to deepen their relationships with students and create a more engaged\, emotionally secure learning environment.\n\n\n\n\n\n\n\n\n\n\n\n\n\n\n\n\n\n\n\n\n\n\n\n\n\n\n\n\n\n\n\n\n\n\n\n\n\nRegister here
URL:https://denverearlychildhood.org/event/heart-to-heart-connection-early-childhood-classroom/
LOCATION:Virtual
END:VEVENT
END:VCALENDAR